BEGIN:VCALENDAR
VERSION:2.0
PRODID:-//L C H S - ECPv6.15.17.1//NONSGML v1.0//EN
CALSCALE:GREGORIAN
METHOD:PUBLISH
X-ORIGINAL-URL:https://lchs.org.uk
X-WR-CALDESC:Events for L C H S
REFRESH-INTERVAL;VALUE=DURATION:PT1H
X-Robots-Tag:noindex
X-PUBLISHED-TTL:PT1H
BEGIN:VTIMEZONE
TZID:UTC
BEGIN:STANDARD
TZOFFSETFROM:+0000
TZOFFSETTO:+0000
TZNAME:UTC
DTSTART:20250101T000000
END:STANDARD
END:VTIMEZONE
BEGIN:VEVENT
DTSTART;TZID=UTC:20260316T080000
DTEND;TZID=UTC:20260316T170000
DTSTAMP:20260419T160436
CREATED:20260316T103917Z
LAST-MODIFIED:20260316T103939Z
UID:8485-1773648000-1773680400@lchs.org.uk
SUMMARY:New Branch Launching Event
DESCRIPTION:Coming Soon with Exciting News!
URL:https://lchs.org.uk/event/new-branch-launching-event/
END:VEVENT
END:VCALENDAR